BEGIN:VCALENDAR
VERSION:2.0
PRODID:-//Selective Mutism Anxiety &amp; Related Disorders Treatment Center - ECPv6.15.17//NONSGML v1.0//EN
CALSCALE:GREGORIAN
METHOD:PUBLISH
X-WR-CALNAME:Selective Mutism Anxiety &amp; Related Disorders Treatment Center
X-ORIGINAL-URL:https://selectivemutismcenter.org
X-WR-CALDESC:Events for Selective Mutism Anxiety &amp; Related Disorders Treatment Center
REFRESH-INTERVAL;VALUE=DURATION:PT1H
X-Robots-Tag:noindex
X-PUBLISHED-TTL:PT1H
BEGIN:VTIMEZONE
TZID:America/New_York
BEGIN:DAYLIGHT
TZOFFSETFROM:-0500
TZOFFSETTO:-0400
TZNAME:EDT
DTSTART:20230312T070000
END:DAYLIGHT
BEGIN:STANDARD
TZOFFSETFROM:-0400
TZOFFSETTO:-0500
TZNAME:EST
DTSTART:20231105T060000
END:STANDARD
BEGIN:DAYLIGHT
TZOFFSETFROM:-0500
TZOFFSETTO:-0400
TZNAME:EDT
DTSTART:20240310T070000
END:DAYLIGHT
BEGIN:STANDARD
TZOFFSETFROM:-0400
TZOFFSETTO:-0500
TZNAME:EST
DTSTART:20241103T060000
END:STANDARD
BEGIN:DAYLIGHT
TZOFFSETFROM:-0500
TZOFFSETTO:-0400
TZNAME:EDT
DTSTART:20250309T070000
END:DAYLIGHT
BEGIN:STANDARD
TZOFFSETFROM:-0400
TZOFFSETTO:-0500
TZNAME:EST
DTSTART:20251102T060000
END:STANDARD
END:VTIMEZONE
BEGIN:VEVENT
DTSTART;TZID=America/New_York:20241005T080000
DTEND;TZID=America/New_York:20241006T170000
DTSTAMP:20260422T053404
CREATED:20240722T182753Z
LAST-MODIFIED:20240722T182753Z
UID:22454-1728115200-1728234000@selectivemutismcenter.org
SUMMARY:Selective Mutism Association Annual Conference 2024
DESCRIPTION:The Selective Mutism Association’s annual conference will be on Saturday\, October 5 (full day) and October 6\, 2024 (half day) this year in Chicago\, IL. We hope you can join us in person to connect with our community! It will be a wonderful time of gathering to learn the latest in evidence-based information\, support one another\, and connect with parents and professionals. It’s been a while since we’ve had a face-to-face conference\, and we are excited to see everyone!
URL:https://selectivemutismcenter.org/event/selective-mutism-association-annual-conference-2024/
CATEGORIES:Continuing Education
END:VEVENT
BEGIN:VEVENT
DTSTART;TZID=America/New_York:20241007T180000
DTEND;TZID=America/New_York:20241007T190000
DTSTAMP:20260422T053404
CREATED:20240819T133352Z
LAST-MODIFIED:20240819T133352Z
UID:22477-1728324000-1728327600@selectivemutismcenter.org
SUMMARY:Guided S-CAT® Virtual Get-Togethers (10-18 Y/Os)
DESCRIPTION:Our 1-hour Guided Virtual Get-Togethers are a place for tweens and teens with social anxiety or Selective Mutism to build social comfort\, learn and practice evidence-based strategies\, and meet peers who share in your teen’s experience. With facilitation from a trained clinician\, attendees participate in planned games and activities that promote social engagement and initiation while in a fun\, comfortable\, and controlled environment.   \nJoin us virtually every Sunday at 6 PM EST! Sessions are open to ages 10-18. \nParticipants do not have to be patients of the SMart Center. Registration is $50 per session\, per attendee. Participants can choose to be on camera and/or use the chat feature – whatever is most comfortable. Parent participation is optional. 
URL:https://selectivemutismcenter.org/event/guided-s-cat-virtual-get-togethers-10-18-y-os-11/
CATEGORIES:Treatment Groups
END:VEVENT
BEGIN:VEVENT
DTSTART;TZID=America/New_York:20241014T180000
DTEND;TZID=America/New_York:20241014T190000
DTSTAMP:20260422T053404
CREATED:20240819T133424Z
LAST-MODIFIED:20240819T133424Z
UID:22478-1728928800-1728932400@selectivemutismcenter.org
SUMMARY:Guided S-CAT® Virtual Get-Togethers (10-18 Y/Os)
DESCRIPTION:Our 1-hour Guided Virtual Get-Togethers are a place for tweens and teens with social anxiety or Selective Mutism to build social comfort\, learn and practice evidence-based strategies\, and meet peers who share in your teen’s experience. With facilitation from a trained clinician\, attendees participate in planned games and activities that promote social engagement and initiation while in a fun\, comfortable\, and controlled environment.   \nJoin us virtually every Sunday at 6 PM EST! Sessions are open to ages 10-18. \nParticipants do not have to be patients of the SMart Center. Registration is $50 per session\, per attendee. Participants can choose to be on camera and/or use the chat feature – whatever is most comfortable. Parent participation is optional. 
URL:https://selectivemutismcenter.org/event/guided-s-cat-virtual-get-togethers-10-18-y-os-12/
CATEGORIES:Treatment Groups
END:VEVENT
BEGIN:VEVENT
DTSTART;TZID=America/New_York:20241021T180000
DTEND;TZID=America/New_York:20241021T190000
DTSTAMP:20260422T053404
CREATED:20240819T133523Z
LAST-MODIFIED:20240819T133523Z
UID:22479-1729533600-1729537200@selectivemutismcenter.org
SUMMARY:Guided S-CAT® Virtual Get-Togethers (10-18 Y/Os)
DESCRIPTION:Our 1-hour Guided Virtual Get-Togethers are a place for tweens and teens with social anxiety or Selective Mutism to build social comfort\, learn and practice evidence-based strategies\, and meet peers who share in your teen’s experience. With facilitation from a trained clinician\, attendees participate in planned games and activities that promote social engagement and initiation while in a fun\, comfortable\, and controlled environment.   \nJoin us virtually every Sunday at 6 PM EST! Sessions are open to ages 10-18. \nParticipants do not have to be patients of the SMart Center. Registration is $50 per session\, per attendee. Participants can choose to be on camera and/or use the chat feature – whatever is most comfortable. Parent participation is optional. 
URL:https://selectivemutismcenter.org/event/guided-s-cat-virtual-get-togethers-10-18-y-os-13/
CATEGORIES:Treatment Groups
END:VEVENT
BEGIN:VEVENT
DTSTART;TZID=America/New_York:20241028T180000
DTEND;TZID=America/New_York:20241028T190000
DTSTAMP:20260422T053404
CREATED:20240819T133554Z
LAST-MODIFIED:20240819T133554Z
UID:22480-1730138400-1730142000@selectivemutismcenter.org
SUMMARY:Guided S-CAT® Virtual Get-Togethers (10-18 Y/Os)
DESCRIPTION:Our 1-hour Guided Virtual Get-Togethers are a place for tweens and teens with social anxiety or Selective Mutism to build social comfort\, learn and practice evidence-based strategies\, and meet peers who share in your teen’s experience. With facilitation from a trained clinician\, attendees participate in planned games and activities that promote social engagement and initiation while in a fun\, comfortable\, and controlled environment.   \nJoin us virtually every Sunday at 6 PM EST! Sessions are open to ages 10-18. \nParticipants do not have to be patients of the SMart Center. Registration is $50 per session\, per attendee. Participants can choose to be on camera and/or use the chat feature – whatever is most comfortable. Parent participation is optional. 
URL:https://selectivemutismcenter.org/event/guided-s-cat-virtual-get-togethers-10-18-y-os-14/
CATEGORIES:Treatment Groups
END:VEVENT
END:VCALENDAR